BEGIN:VCALENDAR
VERSION:2.0
PRODID:-//Women Empowering Women - ECPv6.15.20//NONSGML v1.0//EN
CALSCALE:GREGORIAN
METHOD:PUBLISH
X-WR-CALNAME:Women Empowering Women
X-ORIGINAL-URL:https://wewnational.com
X-WR-CALDESC:Events for Women Empowering Women
REFRESH-INTERVAL;VALUE=DURATION:PT1H
X-Robots-Tag:noindex
X-PUBLISHED-TTL:PT1H
BEGIN:VTIMEZONE
TZID:America/Chicago
BEGIN:DAYLIGHT
TZOFFSETFROM:-0600
TZOFFSETTO:-0500
TZNAME:CDT
DTSTART:20230312T080000
END:DAYLIGHT
BEGIN:STANDARD
TZOFFSETFROM:-0500
TZOFFSETTO:-0600
TZNAME:CST
DTSTART:20231105T070000
END:STANDARD
BEGIN:DAYLIGHT
TZOFFSETFROM:-0600
TZOFFSETTO:-0500
TZNAME:CDT
DTSTART:20240310T080000
END:DAYLIGHT
BEGIN:STANDARD
TZOFFSETFROM:-0500
TZOFFSETTO:-0600
TZNAME:CST
DTSTART:20241103T070000
END:STANDARD
BEGIN:DAYLIGHT
TZOFFSETFROM:-0600
TZOFFSETTO:-0500
TZNAME:CDT
DTSTART:20250309T080000
END:DAYLIGHT
BEGIN:STANDARD
TZOFFSETFROM:-0500
TZOFFSETTO:-0600
TZNAME:CST
DTSTART:20251102T070000
END:STANDARD
END:VTIMEZONE
BEGIN:VEVENT
DTSTART;TZID=America/Chicago:20240717T120000
DTEND;TZID=America/Chicago:20240717T130000
DTSTAMP:20260420T222414
CREATED:20240702T155128Z
LAST-MODIFIED:20240702T155128Z
UID:14335-1721217600-1721221200@wewnational.com
SUMMARY:Virtual Meeting - S.O.S Circle
DESCRIPTION:[vc_row][vc_column][vc_column_text] \nHosted By: Michell Stockmann\nTopic: S.O.S Circle\nWednesday\, July 17\, 2024 – 12:00 PM-1:00PM CST\nStep into a supportive and transformative space at the S.O.S Circle virtual event\, where we will dive deeply into both our struggles and successes. This gathering is designed not only to share challenges but also to celebrate achievements\, fostering a community dedicated to growth\, resilience\, and mutual support. \n[/vc_column_text][vc_empty_space height=”20px”][vc_column_text]Contact this Chapter Leader:\nMichell Stockmann\, CEO/Founder of WEW \nEmail: hello@wewnational.com \nWebsite: https://wewnational.com/[/vc_column_text][/vc_column][/vc_row]
URL:https://wewnational.com/event/virtual-meeting-7-17-2024/
CATEGORIES:Chapter Meeting
ATTACH;FMTTYPE=image/jpeg:https://wewnational.com/wp-content/uploads/2024/07/Virtual-Meeting-July-2024.jpg
LOCATION:https://wewnational.com/event/virtual-meeting-7-17-2024/
END:VEVENT
END:VCALENDAR