BEGIN:VCALENDAR
VERSION:2.0
PRODID:-//Women Empowering Women - ECPv6.15.20//NONSGML v1.0//EN
CALSCALE:GREGORIAN
METHOD:PUBLISH
X-WR-CALNAME:Women Empowering Women
X-ORIGINAL-URL:https://wewnational.com
X-WR-CALDESC:Events for Women Empowering Women
REFRESH-INTERVAL;VALUE=DURATION:PT1H
X-Robots-Tag:noindex
X-PUBLISHED-TTL:PT1H
BEGIN:VTIMEZONE
TZID:America/Chicago
BEGIN:DAYLIGHT
TZOFFSETFROM:-0600
TZOFFSETTO:-0500
TZNAME:CDT
DTSTART:20220313T080000
END:DAYLIGHT
BEGIN:STANDARD
TZOFFSETFROM:-0500
TZOFFSETTO:-0600
TZNAME:CST
DTSTART:20221106T070000
END:STANDARD
BEGIN:DAYLIGHT
TZOFFSETFROM:-0600
TZOFFSETTO:-0500
TZNAME:CDT
DTSTART:20230312T080000
END:DAYLIGHT
BEGIN:STANDARD
TZOFFSETFROM:-0500
TZOFFSETTO:-0600
TZNAME:CST
DTSTART:20231105T070000
END:STANDARD
BEGIN:DAYLIGHT
TZOFFSETFROM:-0600
TZOFFSETTO:-0500
TZNAME:CDT
DTSTART:20240310T080000
END:DAYLIGHT
BEGIN:STANDARD
TZOFFSETFROM:-0500
TZOFFSETTO:-0600
TZNAME:CST
DTSTART:20241103T070000
END:STANDARD
END:VTIMEZONE
BEGIN:VEVENT
DTSTART;TZID=America/Chicago:20230920T130000
DTEND;TZID=America/Chicago:20230920T140000
DTSTAMP:20260423T073534
CREATED:20230824T193222Z
LAST-MODIFIED:20230824T193222Z
UID:10764-1695214800-1695218400@wewnational.com
SUMMARY:Virtual Meeting - Let's Connect & S.O.S Breakouts
DESCRIPTION:[vc_row][vc_column][vc_column_text] \nTOPIC: Let’s Connect & S.O.S Breakouts\nMODERATED BY: Lollie Ramirez-Bennett\nWed\, September 20\, 2023 – 1:00PM-2:00PM CST\nJoin us for a transformative virtual session of connection\, collaboration\, and empowerment at this month’s virtual event. This unique gathering is designed exclusively for women who are passionate about forging authentic relationships\, sharing their stories\, and uplifting one another on their journeys to success. \nSpeed Networking with a Twist:\nEngage in dynamic rounds of speed networking that go beyond the typical “name\, job title\, company name” introductions. Connect on a deeper level by sharing personal and professional experiences and challenges. This is an opportunity to create lasting connections with like-minded women who understand the value of supporting each other. \nMix in our S.O.S.  – Share our Struggles\, Share our Successes:\nUnleash the power of vulnerability and strength in our S.O.S. breakout sessions. In a safe and supportive environment\, we invite you to open up about your journey\, sharing both the hurdles you’ve overcome and the triumphs you’ve celebrated. This session aims to also foster genuine connections by building empathy and understanding among attendees. \nLeave this virtual event not only with new connections but also with exciting takeaways that celebrate your commitment to your own growth. \nCome prepared to be inspired\, to inspire others\, and to foster relationships that will continue long after the event concludes.[/vc_column_text][vc_empty_space height=”20px”][/vc_column][/vc_row]
URL:https://wewnational.com/event/virtual-meeting-lets-connect-s-o-s-breakouts/
CATEGORIES:Chapter Meeting
ATTACH;FMTTYPE=image/jpeg:https://wewnational.com/wp-content/uploads/2023/08/Virtual-Meeting-September-2023.jpg
LOCATION:https://us02web.zoom.us/j/81568953093
END:VEVENT
END:VCALENDAR