BEGIN:VCALENDAR
VERSION:2.0
PRODID:-//Women Empowering Women - ECPv6.15.20//NONSGML v1.0//EN
CALSCALE:GREGORIAN
METHOD:PUBLISH
X-ORIGINAL-URL:https://wewnational.com
X-WR-CALDESC:Events for Women Empowering Women
REFRESH-INTERVAL;VALUE=DURATION:PT1H
X-Robots-Tag:noindex
X-PUBLISHED-TTL:PT1H
BEGIN:VTIMEZONE
TZID:America/Chicago
BEGIN:DAYLIGHT
TZOFFSETFROM:-0600
TZOFFSETTO:-0500
TZNAME:CDT
DTSTART:20250309T080000
END:DAYLIGHT
BEGIN:STANDARD
TZOFFSETFROM:-0500
TZOFFSETTO:-0600
TZNAME:CST
DTSTART:20251102T070000
END:STANDARD
BEGIN:DAYLIGHT
TZOFFSETFROM:-0600
TZOFFSETTO:-0500
TZNAME:CDT
DTSTART:20260308T080000
END:DAYLIGHT
BEGIN:STANDARD
TZOFFSETFROM:-0500
TZOFFSETTO:-0600
TZNAME:CST
DTSTART:20261101T070000
END:STANDARD
BEGIN:DAYLIGHT
TZOFFSETFROM:-0600
TZOFFSETTO:-0500
TZNAME:CDT
DTSTART:20270314T080000
END:DAYLIGHT
BEGIN:STANDARD
TZOFFSETFROM:-0500
TZOFFSETTO:-0600
TZNAME:CST
DTSTART:20271107T070000
END:STANDARD
END:VTIMEZONE
BEGIN:VEVENT
DTSTART;TZID=America/Chicago:20260424T080000
DTEND;TZID=America/Chicago:20260424T120000
DTSTAMP:20260421T201915
CREATED:20260225T194323Z
LAST-MODIFIED:20260420T123008Z
UID:10000712-1777017600-1777032000@wewnational.com
SUMMARY:Your First Five Moves: Building the Foundation of a High Performance Culture
DESCRIPTION:[vc_row][vc_column][vc_column_text css=”” css_params=””] \nWORKSHOP EVENT: Your First Five Moves: Building the Foundation of a High Performance Culture\nLOCATION: Enterprise Bank Conference Center – 11401 Olive Blvd\, Saint Louis\, MO 63141\nFriday\, April 24\, 2026 – 8:00AM-12:00PM CST\nIf you think company culture revolves around pizza parties and gift cards\, this probably isn’t your workshop. \nBuilding a strong\, engaged culture doesn’t require a massive budget\, a new department\, or months of planning. It requires intention and a few smart moves you can start making right away. \nThis interactive JAMS CultureWorks workshop\, hosted in partnership with Women Empowering Women\, is designed to help leaders build culture and strategy into the everyday rhythm of their organization. We focus on practical\, doable actions – things you can implement the minute you walk out the door – that don’t drain your money\, time\, or bandwidth. \nWe know resources matter. That’s why this workshop is about simple\, high impact moves that create momentum. When culture becomes part of how you operate (not an extra initiative) it starts to create a flywheel effect. Engagement builds. Performance improves. And over time\, that cultural infrastructure helps sustain itself. \nWhat You’ll Learn \nWe’ll walk through what we call The Five Moves – foundational actions that help embed culture into your organization and change the trajectory of your business: \n\nPurpose – Clarifying and activating your “why” so it drives decisions\, behavior\, and engagement\nPeople – Engaging both employees and customers (because when your people are engaged\, your customers usually are too)\nPerformance – Thoughtful planning that leads to measuring what actually matters\, and improving the customer experience\nCompliance – Building it in early and intentionally\, so it supports your business instead of slowing it down\nCommunication – Tying it all together with clear\, consistent communication that keeps people connected and engaged\n\nHow This Workshop Is Different \nThis isn’t a sit-and-listen session. It’s hands-on and highly interactive. \n\nBreakout groups where you apply concepts directly to your organization\nReal-world examples from work we’ve done inside growing businesses\nStrategies to gain buy-in from both leadership and employees\nTime and space to start building your own culture framework during the workshop\nA post-workshop follow-up session (six weeks later) to check progress\, troubleshoot challenges\, and keep momentum going (additional fee but if you sign up early\, it’s included!)\n\nOur goal is simple: to give you tools\, language\, and actions you can use immediately and an approach you can continue feeding over time. When culture is built intentionally and woven into everyday operations\, it becomes a powerful driver of engagement\, retention\, and business growth. \nPRICING: \n$199 – Standard Registration \n$149 – WEW Member Rate (Login to get access) \nEarly Bird Bonus Rate: (Expires March 18th USE CODE EARLYBIRD20) Additional $20 dollars off Standard and Member Rate & a complimentary 6-week post-workshop follow-up experience (a $49 value). \nEarly Bird Bonus: Stay Connected Beyond the Workshop \nRegister during our Early Bird period and receive a complimentary 6-week post-workshop follow-up experience (a $49 value). \nThis extended experience is designed to help you stay connected\, continue the conversation\, and actually implement what you’ve learned alongside a supportive community. \nThis follow-up series will also be available for purchase at the workshop for $49.[/vc_column_text][vc_empty_space height=”20px”][vc_row_inner][vc_column_inner][vc_column_text css=”” css_params=””] \nWEW events are all about connection and community\, and we love sharing those moments. By attending a Women Empowering Women (WEW) meeting or event\, you give permission for WEW and its organizers\, leaders\, and partners to capture and use photos\, videos\, or recordings that may include your image\, voice\, or likeness. These may be used – without compensation – for promotional\, educational\, or informational purposes across WEW print and digital channels. \n[/vc_column_text][/vc_column_inner][/vc_row_inner][/vc_column][/vc_row]
URL:https://wewnational.com/event/your-first-five-moves-building-the-foundation-of-a-high-performance-culture/
LOCATION:Enterprise Bank Conference Center\, 11401 Olive Blvd\, Saint Louis\, MO\, 63141\, United States
CATEGORIES:Chapter Meeting,Workshops
ATTACH;FMTTYPE=image/jpeg:https://wewnational.com/wp-content/uploads/2026/02/Your-First-Five-Moves-Workshop.jpg
END:VEVENT
END:VCALENDAR