BEGIN:VCALENDAR
VERSION:2.0
PRODID:-//Women Empowering Women - ECPv6.15.20//NONSGML v1.0//EN
CALSCALE:GREGORIAN
METHOD:PUBLISH
X-ORIGINAL-URL:https://wewnational.com
X-WR-CALDESC:Events for Women Empowering Women
REFRESH-INTERVAL;VALUE=DURATION:PT1H
X-Robots-Tag:noindex
X-PUBLISHED-TTL:PT1H
BEGIN:VTIMEZONE
TZID:America/Chicago
BEGIN:DAYLIGHT
TZOFFSETFROM:-0600
TZOFFSETTO:-0500
TZNAME:CDT
DTSTART:20240310T080000
END:DAYLIGHT
BEGIN:STANDARD
TZOFFSETFROM:-0500
TZOFFSETTO:-0600
TZNAME:CST
DTSTART:20241103T070000
END:STANDARD
BEGIN:DAYLIGHT
TZOFFSETFROM:-0600
TZOFFSETTO:-0500
TZNAME:CDT
DTSTART:20250309T080000
END:DAYLIGHT
BEGIN:STANDARD
TZOFFSETFROM:-0500
TZOFFSETTO:-0600
TZNAME:CST
DTSTART:20251102T070000
END:STANDARD
BEGIN:DAYLIGHT
TZOFFSETFROM:-0600
TZOFFSETTO:-0500
TZNAME:CDT
DTSTART:20260308T080000
END:DAYLIGHT
BEGIN:STANDARD
TZOFFSETFROM:-0500
TZOFFSETTO:-0600
TZNAME:CST
DTSTART:20261101T070000
END:STANDARD
END:VTIMEZONE
BEGIN:VEVENT
DTSTART;TZID=America/Chicago:20251016T113000
DTEND;TZID=America/Chicago:20251016T130000
DTSTAMP:20260425T080429
CREATED:20250709T150241Z
LAST-MODIFIED:20250904T202046Z
UID:10000597-1760614200-1760619600@wewnational.com
SUMMARY:West County Chapter Meeting - Embracing of Grit\, Grace\, and Gratitude
DESCRIPTION:[vc_row][vc_column][vc_column_text css=”” css_params=””] \nGUEST SPEAKER: Caroline Mug\nTOPIC: Embracing of Grit\, Grace\, and Gratitude \nWHERE: ll Bel Lago – 11631 Olive Blvd. St. Louis\, MO 63141\nWHEN: Thursday\, October 16\, 2025 – 11:30AM-1:00PM CST\nCaroline is an academic coach specializing in executive function skills. She works with middle school\, high school\, and college students to help them become more prepared\, confident\, and motivated. Through teaching essential study\, organization\, and communication skills\, she empowers students to take ownership of their academic journeys and beyond. \nHer path has always been driven by a passion for learning and making a meaningful impact. She began her career in education\, teaching in both the U.S. and at an international school in Venezuela. These experiences shaped her commitment to fostering growth and resilience in others\, as she witnessed firsthand the transformative power of education across cultures. These early experiences laid the foundation for her career\, which evolved to include corporate leadership and organizational development at Fortune 500 and non-profit organizations. In these roles\, she designed leadership\, educational\, and sales programs while coaching professionals on career and personal growth. \nToday\, as a certified coach with a BA in Education and Linguistics\, an MBA\, and a graduate certificate in Organizational Psychology\, Caroline brings a unique blend of educational\, entrepreneurial\, and corporate expertise to her coaching practice. Whether helping a student master time management or celebrating someone’s achievements\, her mission remains the same: to inspire confidence and equip others with the tools they need to succeed. \nWhat if the key to achieving your goals wasn’t just hard work—but also self-compassion and a grateful heart? Together\, we’ll explore how the powerful combination of grit\, grace\, and gratitude can help you go after what you want with courage\, treat yourself with kindness through setbacks\, and stay grounded in appreciation along the way. It’s not just about pushing forward—it’s about how you show up for yourself in the process.[/vc_column_text][vc_empty_space height=”20px”][/vc_column][/vc_row][vc_row][vc_column][vc_column_text css=”” css_params=””] \nContact this Speaker Directly:\nCaroline Mug: Coach & Speaker with Caroline Mug Coaching\nWebsite: www.carolinemug.com \nInstagram: www.instagram.com/caroline.mug/ \nLinkedIn: www.linkedin.com/in/carolinemug/ \nEmail: caroline@carolinemug.com \n [/vc_column_text][/vc_column][/vc_row][vc_row][vc_column][vc_column_text] \nAll chapter meetings are FREE for anyone to attend.  YES!  You read that right. \n\n(We just ask that if a chapter meeting is at a restaurant location\, that you purchase a meal to support the location that is so graciously hosting our event. Don’t forget to tip your server a little extra as most restaurants are struggling with staffing issues and we want to make sure they know how much we appreciate them!) \nEnjoy a proven\, structured system that embraces the building of relationships which in turn will grow your business efficiencies\, sales\, exposure\, and business processes. \nCome meet and learn from panelists\, experts\, and local women in your WEW chapter.  You will also find allies who want to help with your success and are ready to share their resources and expertise to help you take that next step in your personal and professional life. \nFor information about this chapter\, please contact our corporate team at hello@wewnational.com.\n[/vc_column_text][/vc_column][/vc_row]
URL:https://wewnational.com/event/west-county-chapter-meeting-10-16-2025/
LOCATION:Il Bel Lago\, 11631 Olive Blvd.\, St. Louis\, MO\, 63141
CATEGORIES:Chapter Meeting,West County St. Louis
ATTACH;FMTTYPE=image/png:https://wewnational.com/wp-content/uploads/2025/07/WEW-West-County-Chapter-Meeting-October-2025-updated.png
END:VEVENT
END:VCALENDAR