BEGIN:VCALENDAR
VERSION:2.0
PRODID:-//Women Empowering Women - ECPv6.15.20//NONSGML v1.0//EN
CALSCALE:GREGORIAN
METHOD:PUBLISH
X-ORIGINAL-URL:https://wewnational.com
X-WR-CALDESC:Events for Women Empowering Women
REFRESH-INTERVAL;VALUE=DURATION:PT1H
X-Robots-Tag:noindex
X-PUBLISHED-TTL:PT1H
BEGIN:VTIMEZONE
TZID:America/Chicago
BEGIN:DAYLIGHT
TZOFFSETFROM:-0600
TZOFFSETTO:-0500
TZNAME:CDT
DTSTART:20220313T080000
END:DAYLIGHT
BEGIN:STANDARD
TZOFFSETFROM:-0500
TZOFFSETTO:-0600
TZNAME:CST
DTSTART:20221106T070000
END:STANDARD
BEGIN:DAYLIGHT
TZOFFSETFROM:-0600
TZOFFSETTO:-0500
TZNAME:CDT
DTSTART:20230312T080000
END:DAYLIGHT
BEGIN:STANDARD
TZOFFSETFROM:-0500
TZOFFSETTO:-0600
TZNAME:CST
DTSTART:20231105T070000
END:STANDARD
BEGIN:DAYLIGHT
TZOFFSETFROM:-0600
TZOFFSETTO:-0500
TZNAME:CDT
DTSTART:20240310T080000
END:DAYLIGHT
BEGIN:STANDARD
TZOFFSETFROM:-0500
TZOFFSETTO:-0600
TZNAME:CST
DTSTART:20241103T070000
END:STANDARD
END:VTIMEZONE
BEGIN:VEVENT
DTSTART;TZID=America/Chicago:20231214T170000
DTEND;TZID=America/Chicago:20231214T190000
DTSTAMP:20260419T130939
CREATED:20231114T213050Z
LAST-MODIFIED:20231115T194057Z
UID:10000318-1702573200-1702580400@wewnational.com
SUMMARY:WEW Holiday Mingle
DESCRIPTION:[vc_row][vc_column][vc_column_text] \nTOPIC: WEW Holiday Mingle (St. Louis/Metro East Illinois area)\nWHERE: Ritz Carlton Clayton: 100  Carondelet Plaza\, St. Louis\, MO 63105\nThursday\, December 14\, 2023 5:00PM – 7:00PM CST\nChampagne Toast – 6:00PM\n[/vc_column_text][vc_column_text] \nCome celebrate with WEW! December is a festive season and we’re rolling a lot of celebrations all in one! 10 years of WEW\, the holiday season and our founder’s birthday! Champagne Toast at 6pm to celebrate. \nMembers Log in to access your discounted ticket price. \nProceeds will be donated to a local women’s charity. \n[/vc_column_text][vc_empty_space height=”20px”][/vc_column][/vc_row][vc_row][vc_column][/vc_column][/vc_row]
URL:https://wewnational.com/event/12-14-2023/
LOCATION:Ritz-Carlton\, 100 Carondelet Plaza\, St. Louis\, 63105\, United States
CATEGORIES:Connect & Collaborate Events
ATTACH;FMTTYPE=image/jpeg:https://wewnational.com/wp-content/uploads/2023/11/3.jpg
END:VEVENT
BEGIN:VEVENT
DTSTART;TZID=America/Chicago:20231027T143000
DTEND;TZID=America/Chicago:20231027T173000
DTSTAMP:20260419T130939
CREATED:20230927T132333Z
LAST-MODIFIED:20231008T130035Z
UID:10000302-1698417000-1698427800@wewnational.com
SUMMARY:TEDxStLouis Women Two Steps Forward
DESCRIPTION:[vc_row][vc_column][vc_btn title=”CLICK HERE TO PURCHASE TICKETS” style=”custom” custom_background=”#93edf1″ custom_text=”#2c519e” size=”xl” link=”url:https%3A%2F%2Ftouhill.universitytickets.com%2Fw%2Fevent.aspx%3Fid%3D1467|target:_blank”][vc_column_text] \nUSE ONE OF THESE CODES FOR 15% OFF TICKETS:\nAMBASSADOR-WEW\nAMBASSADOR-WEW-EDWARDSVILLE\n\n[/vc_column_text][vc_separator color=”custom” accent_color=”#fcb8a9″][vc_column_text] \nJOIN US FOR: TEDxStLouis Women Two Steps Forward\nWHERE: Touhill Performing Arts Center: 1 Touhill Cir\, St. Louis MO 63121\nFriday\, October 27\, 2023 – 2:30PM-5:30PM CST\nWe all know that when it comes to global gender equity\, there’s still a great deal of work to be done. It’s time to reset\, rethink\, and collectively imagine different ways forward.  \nThis year we’ll joyfully celebrate those taking bold strides into the future\, working unapologetically to make big dreams become reality. Whether working on new models of equity and inclusion or blazing trails as pioneers\, this event’’s speakers demonstrate luminous new thinking and ideas designed to enchant\, uplift\, and inspire us all. \nCome be inspired as our speakers share ideas worth spreading: the extraordinary work of an ordinary 14-year-old kid\, a solution that practically eliminates recidivism from an ex-prisoner\, surprising truths about sustainable fashion\, and methods to elevate your career through leadership. You’re also invited to sit back and enjoy St. Louis home-grown entertainment. \nArrive early to experience Innovation Alley where you’ll learn about local innovators whose ideas are positively shifting the landscape of our community. This is a powerful space where ideas and conversations go at least two steps forward – creating impact\, new opportunities\, and stronger connections. \nSpeaking of connections\, be sure to stay after the event to mix and mingle with women business owners\, leaders\, peers\, and other curious-minded people like you! There will be snacks\, beverages\, AND opportunities to meet the amazing speakers who informed\, inspired\, and challenged you from our stage. \nThis event will take place at the Touhill Performing Arts Center\, a landmark performance facility located on the UMSL campus. There is ample parking. \nAgenda \nDate:           October 27\, 2023\n2:30pm        Doors Open\n3:00pm        Event Starts\n5:00pm        Networking Happy Hour \nPlease feel free to dress comfortably and to express yourself! We accept everything from bikinis to business suits and sneakers to stilettos. You do you! \nAbout TEDxStLouis \nTEDx is a program of local\, self-organized events that bring people together to share a TED-like experience. \nx = independently organized TED event. At our TEDx events\, TEDTalks video and live speakers combine to spark deep discussion and connection in a small group. The TED Conference provides general guidance for the TEDx program\, but individual TEDx events\, including ours\, are self-organized. \nThe mission of TEDxStLouis is to create an inclusive and equitable community of forever learners in the St. Louis region. We focus on curating TED-oriented thought-leaders and topics that have an intrinsic connection to the St. Louis region & may not be broadly known or understood by most St. Louisans. We provide the community with events\, connections\, and ongoing information that will help them propel the St. Louis region to greater vibrancy and prosperity.  \nWe believe passionately in the power of ideas to change attitudes\, lives\, and\, ultimately\, the world. Our community will build a clearinghouse of free knowledge from the region’s most inspired thinkers — and a consortium of curious souls to engage with ideas and each other\, both online and at TEDx events all year long. \nhttps://www.youtube.com/watch?v=wiFtb4VAz6w[/vc_column_text][vc_empty_space height=”20px”][/vc_column][/vc_row]
URL:https://wewnational.com/event/tedxstlouis-women-two-steps-forward/
LOCATION:Touhill Performing Arts Center\, 1 Touhill Cir\, St. Louis\, 63121\, United States
CATEGORIES:Connect & Collaborate Events
ATTACH;FMTTYPE=image/png:https://wewnational.com/wp-content/uploads/2023/09/TEDxStLouis.png
END:VEVENT
BEGIN:VEVENT
DTSTART;TZID=America/Chicago:20230927T180000
DTEND;TZID=America/Chicago:20230927T200000
DTSTAMP:20260419T130939
CREATED:20230830T140336Z
LAST-MODIFIED:20230831T224020Z
UID:10000288-1695837600-1695844800@wewnational.com
SUMMARY:Women's Networking Happy Hour
DESCRIPTION:[vc_row][vc_column][vc_btn title=”CLICK HERE TO PURCHASE TICKET ON EVENTBRITE” style=”custom” custom_background=”#93edf1″ custom_text=”#2c519e” size=”xl” link=”url:https%3A%2F%2Fwww.eventbrite.com%2Fe%2Ftedxstlouiswomen-two-steps-forward-womens-networking-happy-hour-tickets-709379943507″][vc_column_text] \nEVENT: Women’s Networking Happy Hour\nWHERE: HeyDays HQ 3139 Olive Street\, STL 63103\nTHEME: Wear your favorite shoes(sneakers to stilettos)\nWednesday\, September 27\, 2023 – 6:00PM-8:00PM CST\nAmazing things happen when women collaborate!! We are excited to bring together all the women’s networking groups and women’s EG/ERG’s from the St. Louis/Metro East region!  Even if you’re not officially a part of any women’s networking organzation but have a lot of friends or colleagues who love to meet and connect with other women. \nMich Hancock with TEDxStLouis\, Michell Stockmann with Women Empowering Women and Kristy Jackson with SheCan Connect are bringing the women of the greater St. Louis area together for something cool and collaborative for TEDxStLouisWomen. \nWe want to make sure you’re there! We have some exciting news to share! Click the link below to get your FREE Eventbrite ticket and then put on your favorite shoes and show up!  We will see you on September 27th. \n[/vc_column_text][vc_empty_space height=”20px”][/vc_column][/vc_row]
URL:https://wewnational.com/event/womens-networking-happy-hour/
LOCATION:HeyDays HQ\, 3139 Olive Street\, St. Louis\, MO\, 63103\, United States
CATEGORIES:Connect & Collaborate Events
ATTACH;FMTTYPE=image/jpeg:https://wewnational.com/wp-content/uploads/2023/08/Tedx-stl-save-the-date.jpg
END:VEVENT
BEGIN:VEVENT
DTSTART;TZID=America/Chicago:20230817T180000
DTEND;TZID=America/Chicago:20230817T203000
DTSTAMP:20260419T130939
CREATED:20230810T140438Z
LAST-MODIFIED:20230810T223723Z
UID:10000282-1692295200-1692304200@wewnational.com
SUMMARY:SheCan Connect Sundress & Shades Networking Soiree
DESCRIPTION:[vc_row][vc_column][vc_btn title=”CLICK HERE TO PURCHASE TICKET ON EVENTBRITE” style=”custom” custom_background=”#f7b8a8″ custom_text=”#2e334a” size=”lg” link=”url:https%3A%2F%2Fwww.eventbrite.com%2Fe%2Fshecan-connect-sundress-shades-networking-soiree-tickets-669965062537%3Faff%3Debdsoporgprofile|target:_blank”][vc_column_text] \nSPEAKER: Cortaiga Collins\nTOPIC: Sundress & Shades Networking Soiree\nWHERE: VUE 17 1034 S Brentwood BLVD 17th Floor\, St. Louis MO 63117\nThursday\, August 17\, 2023 – 6:00PM-8:30PM CST\nCome and enjoy SheCan Connect’s summertime networking event\, where you can meet potential collaborators and make new connections. Join us in celebrating female entrepreneurship while shopping with women-owned vendors\, receive valuable business resources and enjoy some refreshments. Our guest speaker\, Cortaiga Collins\, will inspire you to surge forward in your life and career. We hope to see you there! \nOur summertime networking event is the perfect opportunity for you to expand your professional network while also celebrating female entrepreneurship. Here are some additional details about what you can expect at the event: \n\nDress attire is a sundress and shades or business casual.\nThe Vue 17 venue shows off the beauty of the St. Louis skyline in panoramic fashion with complimentary parking.\nOur women-owned vendors will be selling a variety of products\, so you can shop while you network.\nIn addition to meeting potential collaborators\, you will have access to valuable business resources that can help take your career to the next level.\nCortaiga Collins is an accomplished author and entrepreneur who will be sharing her insights and inspiring you to take action in your personal and professional life.\nWe believe that supporting and elevating women in business is crucial\, which is why this event is focused on celebrating female entrepreneurship.\nSurprise Community Announcement!\n\nDon’t miss out on this exciting opportunity to connect with like-minded professionals and learn from an inspiring guest speaker. We can’t wait to see you there! \nVendor tickets available for women-owned businesses. \nIn addition\, as a passionate advocator for gender equality and women’s professional development\, I actively support and uplift fellow professional women. By collaborating and sharing insights\, we create a powerful network that inspires growth and fosters success collectively. \nWant to build a strong financial foundation? Lets explore the basics of building financial security\, including managing debt\, growing savings\, and safeguarding against risk and unexpected events. \nFor information about this event\, please go to shecanconnect.com \n  \nA NOTE FROM WEW FOUNDER & CEO MICHELL STOCKMANN: \nAt Women Empowering Women\, we are dedicated to fostering a network of strong\, capable\, and empowered women who uplift and inspire one another. We believe in the incredible impact of organizations like SheCan Connect\, which share our mission of empowering women to achieve their full potential. \nFounder Kristy Jackson and I have become great friends and close business colleagues while we grow our organizations and we both believe fully in the saying “We Rise by Lifting Others”. We don’t just talk the talk either!  We are thrilled to announce that SheCan Connect is hosting an exciting event that aligns perfectly with our values. \nWhile this event is created and hosted by SheCan Connect\, we view it as an amazing opportunity to provide additional benefits to our valued members. \nJoin us in celebrating the empowering spirit of women by purchasing a ticket and supporting our friends.  I’ll be there and I hope to see you too! It’s a testament to our shared commitment to supporting and uplifting each other. \nLet’s come together\, learn\, grow\, and continue making strides toward a brighter\, more empowered future. \n#SheCanConnect #WomenEmpoweringWomen[/vc_column_text][/vc_column][/vc_row]
URL:https://wewnational.com/event/shecan-connect-sundress-shades-networking-soiree/
LOCATION:VUE 17\, 1034 S Brentwood BLVD 17th Floor\, St. Louis\, MO\, 63117\, United States
CATEGORIES:Connect & Collaborate Events
ATTACH;FMTTYPE=image/jpeg:https://wewnational.com/wp-content/uploads/2023/08/1-Sundresses-Shades-SheCan-Connect-Sticker.jpg
END:VEVENT
BEGIN:VEVENT
DTSTART;TZID=America/Chicago:20230726T163000
DTEND;TZID=America/Chicago:20230726T203000
DTSTAMP:20260419T130939
CREATED:20230711T192234Z
LAST-MODIFIED:20230712T002038Z
UID:10000268-1690389000-1690403400@wewnational.com
SUMMARY:MEMBERS ONLY - Private Screening of Barbie & Cocktail event
DESCRIPTION:[vc_row][vc_column][vc_column_text] \nTOPIC: Private Screening of Barbie & Cocktail Happy Hour event\nWHERE: Galleria 6 Cinemas\, 30 Saint Louis Galleria\nSt. Louis\, MO 63117\nWednesday\, July 26\, 2023\nCocktail Happy Hour – 4:30PM-6:30PM CST\nMovie Premieres – 6:30PM\n[/vc_column_text][vc_column_text]Join us for an exclusive Private Screening of the highly anticipated new Barbie movie\, a celebration of empowerment and the enduring spirit of the iconic doll! Be prepared for a glamorous evening filled with fun\, laughter\, and inspiration. \nDress up in your best Barbie fashion or load up with everything PINK and get ready to walk the pink carpet to enjoy an exciting Cocktail Happy Hour.  Enjoy some time before the movie to mingle and engage in some FUN! \nDuring Happy Hour\, we will have drawings and prizes\, adding an element of anticipation to the night. Who knows? You might just walk away with a fabulous gift!. And don’t forget to strike a pose at our fun-filled photo area\, where you can capture memorable moments with friends and fellow attendees. \nAs the evening progresses\, we’ll settle in for the main event—the Private Screening of the new Barbie movie! \nThis event is a unique opportunity to celebrate the first empowered doll in the company of other empowered women. Whether you’re a lifelong Barbie fan or simply appreciate the message of empowerment\, this evening promises to be an unforgettable experience that will leave you inspired and uplifted. \nSo mark your calendars and save the date for an evening of cocktails\, prizes\, networking\, and a captivating cinematic experience. Come for the Cocktail Happy Hour and stay for the movie—it’s an event you won’t want to miss![/vc_column_text][vc_empty_space height=”20px”][/vc_column][/vc_row][vc_row][vc_column][/vc_column][/vc_row]
URL:https://wewnational.com/event/members-only-private-screening-of-barbie-cocktail-event/
LOCATION:Galleria 6 Cinemas\, 30 Saint Louis Galleria\, St. Louis\, MO\, 63117\, United States
CATEGORIES:Connect & Collaborate Events
ATTACH;FMTTYPE=image/jpeg:https://wewnational.com/wp-content/uploads/2023/07/WEW-Barbie-Private-Viewing-party.jpg
END:VEVENT
BEGIN:VEVENT
DTSTART;TZID=America/Chicago:20230726T163000
DTEND;TZID=America/Chicago:20230726T203000
DTSTAMP:20260419T130939
CREATED:20230711T004024Z
LAST-MODIFIED:20230718T171023Z
UID:10000267-1690389000-1690403400@wewnational.com
SUMMARY:Private Screening of Barbie & Cocktail event
DESCRIPTION:[vc_row][vc_column][vc_btn title=”CLICK HERE FOR MEMBER ONLY TICKET ACCESS” style=”custom” custom_background=”#fcb8a8″ custom_text=”#2f334a” shape=”rounded” size=”xl” align=”center” i_icon_fontawesome=”fas fa-dollar-sign” btn_fs=”20px” button_block=”true” add_icon=”true” link=”url:https%3A%2F%2Fwewnational.com%2Fevent%2Fmembers-only-private-screening-of-barbie-cocktail-event%2F”][vc_column_text] \nTOPIC: Private Screening of Barbie & Cocktail Happy Hour event\nWHERE: Galleria 6 Cinemas\, 30 Saint Louis Galleria\nSt. Louis\, MO 63117\nWednesday\, July 26\, 2023\nCocktail Happy Hour – 4:30PM-6:30PM CST\nMovie Premieres – 6:30PM\n[/vc_column_text][vc_column_text]Join us for an exclusive Private Screening of the highly anticipated new Barbie movie\, a celebration of empowerment and the enduring spirit of the iconic doll! Be prepared for a glamorous evening filled with fun\, laughter\, and inspiration. \nDress up in your best Barbie fashion or load up with everything PINK and get ready to walk the pink carpet to enjoy an exciting Cocktail Happy Hour.  Enjoy some time before the movie to mingle and engage in some FUN! \nDuring Happy Hour\, we will have drawings and prizes\, adding an element of anticipation to the night. Who knows? You might just walk away with a fabulous gift!. And don’t forget to strike a pose at our fun-filled photo area\, where you can capture memorable moments with friends and fellow attendees. \nAs the evening progresses\, we’ll settle in for the main event—the Private Screening of the new Barbie movie! \nThis event is a unique opportunity to celebrate the first empowered doll in the company of other empowered women. Whether you’re a lifelong Barbie fan or simply appreciate the message of empowerment\, this evening promises to be an unforgettable experience that will leave you inspired and uplifted. \nSo mark your calendars and save the date for an evening of cocktails\, prizes\, networking\, and a captivating cinematic experience. Come for the Cocktail Happy Hour and stay for the movie—it’s an event you won’t want to miss![/vc_column_text][vc_empty_space height=”20px”][/vc_column][/vc_row][vc_row][vc_column][vc_column_text] \nPLEASE SUPPORT OUR EVENT SPONSORS\n[/vc_column_text][vc_separator color=”custom” border_width=”3″ el_width=”80″ accent_color=”#fcb9a9″][vc_column_text]We have a number of sponsors supporting us for this event. Please thank them when you see them\, they will be wearing special name tags.  If you would like to be a sponsor\,  or if you are Interested in being a sponsor for this or future events\, please contact our Director of Events\, Jennifer Berkley-McCoy at 618-696-6707 [/vc_column_text][vc_row_inner][vc_column_inner width=”1/3″][vc_column_text] \nPhoto Ops & Decorations\n[/vc_column_text][vc_single_image image=”9894″ img_size=”full” alignment=”center”][/vc_column_inner][vc_column_inner width=”1/3″][vc_column_text] \nPopcorn Keepsake\n[/vc_column_text][/vc_column_inner][vc_column_inner width=”1/3″][vc_column_text] \nBarbie Glasses\n[/vc_column_text][/vc_column_inner][/vc_row_inner][/vc_column][/vc_row]
URL:https://wewnational.com/event/private-screening-of-barbie-cocktail-event/
LOCATION:Galleria 6 Cinemas\, 30 Saint Louis Galleria\, St. Louis\, MO\, 63117\, United States
CATEGORIES:Connect & Collaborate Events
ATTACH;FMTTYPE=image/jpeg:https://wewnational.com/wp-content/uploads/2023/07/WEW-Barbie-Private-Viewing-party.jpg
END:VEVENT
END:VCALENDAR