BEGIN:VCALENDAR
VERSION:2.0
PRODID:-//Women Empowering Women - ECPv6.15.20//NONSGML v1.0//EN
CALSCALE:GREGORIAN
METHOD:PUBLISH
X-ORIGINAL-URL:https://wewnational.com
X-WR-CALDESC:Events for Women Empowering Women
REFRESH-INTERVAL;VALUE=DURATION:PT1H
X-Robots-Tag:noindex
X-PUBLISHED-TTL:PT1H
BEGIN:VTIMEZONE
TZID:America/Chicago
BEGIN:DAYLIGHT
TZOFFSETFROM:-0600
TZOFFSETTO:-0500
TZNAME:CDT
DTSTART:20250309T080000
END:DAYLIGHT
BEGIN:STANDARD
TZOFFSETFROM:-0500
TZOFFSETTO:-0600
TZNAME:CST
DTSTART:20251102T070000
END:STANDARD
BEGIN:DAYLIGHT
TZOFFSETFROM:-0600
TZOFFSETTO:-0500
TZNAME:CDT
DTSTART:20260308T080000
END:DAYLIGHT
BEGIN:STANDARD
TZOFFSETFROM:-0500
TZOFFSETTO:-0600
TZNAME:CST
DTSTART:20261101T070000
END:STANDARD
BEGIN:DAYLIGHT
TZOFFSETFROM:-0600
TZOFFSETTO:-0500
TZNAME:CDT
DTSTART:20270314T080000
END:DAYLIGHT
BEGIN:STANDARD
TZOFFSETFROM:-0500
TZOFFSETTO:-0600
TZNAME:CST
DTSTART:20271107T070000
END:STANDARD
END:VTIMEZONE
BEGIN:VEVENT
DTSTART;TZID=America/Chicago:20260423T113000
DTEND;TZID=America/Chicago:20260423T130000
DTSTAMP:20260423T045739
CREATED:20260310T192045Z
LAST-MODIFIED:20260320T153522Z
UID:10000726-1776943800-1776949200@wewnational.com
SUMMARY:North County Chapter Meeting - Why Smart Business Women Still Sabotage Their Success
DESCRIPTION:[vc_row][vc_column][vc_column_text css=”” css_params=””] \nGUEST SPEKER: Derlene Hirtz\nTOPIC: Why Smart Business Women Still Sabotage Their Success\nWHERE: Associated Bank: 10044 W. Florissant Ave St. Louis\, MO 63136\nWHEN: Thursday April 23\, 2026 – 11:30AM-1:00PM CST\n\n\n\n\nSmart\, capable women often work harder than anyone else – yet still find themselves stuck\, overwhelmed\, or plateaued in their success. In this powerful session\, Derlene Hirtz reveals how hidden beliefs and unconscious patterns can quietly sabotage even the most driven professionals. Participants will learn how to identify the “lie in brief\,” shift their thinking\, and unlock the confidence and clarity needed to elevate their influence\, impact\, and income. \n\n\n\n\n[/vc_column_text][vc_empty_space height=”20px”][vc_column_text css=”” css_params=””] \nContact the Speaker Directly:\nDerlene Hirtz – You Empowered Services\nEmail: derlene@youempoweredservices.com \nText: 636.459.0877 \n[/vc_column_text][/vc_column][/vc_row][vc_row][vc_column][vc_empty_space height=”20px”][vc_column_text css=”” css_params=””] \nWEW events are all about connection and community\, and we love sharing those moments. By attending a Women Empowering Women (WEW) meeting or event\, you give permission for WEW and its organizers\, leaders\, and partners to capture and use photos\, videos\, or recordings that may include your image\, voice\, or likeness. These may be used – without compensation – for promotional\, educational\, or informational purposes across WEW print and digital channels. \n[/vc_column_text][vc_column_text css=”” css_params=””] \nAll chapter meetings are FREE for anyone to attend.  YES!  You read that right. \n\nPlease note: This chapter meets at a non-restaurant location\, so we encourage attendees to bring their own sack lunch. While food isn’t provided\, you’re welcome to enjoy your meal during the meeting as we connect\, collaborate\, and grow together. \nEnjoy a proven\, structured system that embraces the building of relationships which in turn will grow your business efficiencies\, sales\, exposure\, and business processes. \nCome meet and learn from panelists\, experts\, and local women in your WEW chapter.  You will also find allies who want to help with your success and are ready to share their resources and expertise to help you take that next step in your personal and professional life. \nFor information about this chapter\, please contact our corporate team at hello@wewnational.com.\n[/vc_column_text][/vc_column][/vc_row]
URL:https://wewnational.com/event/north-county-chapter-meeting-4-23-2026/
LOCATION:Associated Bank\, 10044 W. Florissant Ave\, St. Louis\, MO\, 63136\, United States
CATEGORIES:Chapter Meeting
ATTACH;FMTTYPE=image/jpeg:https://wewnational.com/wp-content/uploads/2026/03/North-County-Chapter-Meeting-April-2026.jpg
END:VEVENT
BEGIN:VEVENT
DTSTART;TZID=America/Chicago:20260424T080000
DTEND;TZID=America/Chicago:20260424T120000
DTSTAMP:20260423T045739
CREATED:20260225T194323Z
LAST-MODIFIED:20260420T123008Z
UID:10000712-1777017600-1777032000@wewnational.com
SUMMARY:Your First Five Moves: Building the Foundation of a High Performance Culture
DESCRIPTION:[vc_row][vc_column][vc_column_text css=”” css_params=””] \nWORKSHOP EVENT: Your First Five Moves: Building the Foundation of a High Performance Culture\nLOCATION: Enterprise Bank Conference Center – 11401 Olive Blvd\, Saint Louis\, MO 63141\nFriday\, April 24\, 2026 – 8:00AM-12:00PM CST\nIf you think company culture revolves around pizza parties and gift cards\, this probably isn’t your workshop. \nBuilding a strong\, engaged culture doesn’t require a massive budget\, a new department\, or months of planning. It requires intention and a few smart moves you can start making right away. \nThis interactive JAMS CultureWorks workshop\, hosted in partnership with Women Empowering Women\, is designed to help leaders build culture and strategy into the everyday rhythm of their organization. We focus on practical\, doable actions – things you can implement the minute you walk out the door – that don’t drain your money\, time\, or bandwidth. \nWe know resources matter. That’s why this workshop is about simple\, high impact moves that create momentum. When culture becomes part of how you operate (not an extra initiative) it starts to create a flywheel effect. Engagement builds. Performance improves. And over time\, that cultural infrastructure helps sustain itself. \nWhat You’ll Learn \nWe’ll walk through what we call The Five Moves – foundational actions that help embed culture into your organization and change the trajectory of your business: \n\nPurpose – Clarifying and activating your “why” so it drives decisions\, behavior\, and engagement\nPeople – Engaging both employees and customers (because when your people are engaged\, your customers usually are too)\nPerformance – Thoughtful planning that leads to measuring what actually matters\, and improving the customer experience\nCompliance – Building it in early and intentionally\, so it supports your business instead of slowing it down\nCommunication – Tying it all together with clear\, consistent communication that keeps people connected and engaged\n\nHow This Workshop Is Different \nThis isn’t a sit-and-listen session. It’s hands-on and highly interactive. \n\nBreakout groups where you apply concepts directly to your organization\nReal-world examples from work we’ve done inside growing businesses\nStrategies to gain buy-in from both leadership and employees\nTime and space to start building your own culture framework during the workshop\nA post-workshop follow-up session (six weeks later) to check progress\, troubleshoot challenges\, and keep momentum going (additional fee but if you sign up early\, it’s included!)\n\nOur goal is simple: to give you tools\, language\, and actions you can use immediately and an approach you can continue feeding over time. When culture is built intentionally and woven into everyday operations\, it becomes a powerful driver of engagement\, retention\, and business growth. \nPRICING: \n$199 – Standard Registration \n$149 – WEW Member Rate (Login to get access) \nEarly Bird Bonus Rate: (Expires March 18th USE CODE EARLYBIRD20) Additional $20 dollars off Standard and Member Rate & a complimentary 6-week post-workshop follow-up experience (a $49 value). \nEarly Bird Bonus: Stay Connected Beyond the Workshop \nRegister during our Early Bird period and receive a complimentary 6-week post-workshop follow-up experience (a $49 value). \nThis extended experience is designed to help you stay connected\, continue the conversation\, and actually implement what you’ve learned alongside a supportive community. \nThis follow-up series will also be available for purchase at the workshop for $49.[/vc_column_text][vc_empty_space height=”20px”][vc_row_inner][vc_column_inner][vc_column_text css=”” css_params=””] \nWEW events are all about connection and community\, and we love sharing those moments. By attending a Women Empowering Women (WEW) meeting or event\, you give permission for WEW and its organizers\, leaders\, and partners to capture and use photos\, videos\, or recordings that may include your image\, voice\, or likeness. These may be used – without compensation – for promotional\, educational\, or informational purposes across WEW print and digital channels. \n[/vc_column_text][/vc_column_inner][/vc_row_inner][/vc_column][/vc_row]
URL:https://wewnational.com/event/your-first-five-moves-building-the-foundation-of-a-high-performance-culture/
LOCATION:Enterprise Bank Conference Center\, 11401 Olive Blvd\, Saint Louis\, MO\, 63141\, United States
CATEGORIES:Chapter Meeting,Workshops
ATTACH;FMTTYPE=image/jpeg:https://wewnational.com/wp-content/uploads/2026/02/Your-First-Five-Moves-Workshop.jpg
END:VEVENT
BEGIN:VEVENT
DTSTART;TZID=America/Chicago:20260427T113000
DTEND;TZID=America/Chicago:20260427T130000
DTSTAMP:20260423T045739
CREATED:20260204T195606Z
LAST-MODIFIED:20260408T200502Z
UID:10000704-1777289400-1777294800@wewnational.com
SUMMARY:O'Fallon Chapter Meeting - Preparing for the Golden : Understanding the Differences Between Home Care\, Senior Living\, and Nursing Homes
DESCRIPTION:[vc_row][vc_column][vc_column_text css=”” css_params=””] \nSpeaker: Annie Eads\nTopic: Preparing for the Golden : Understanding the Differences Between Home Care\, Senior Living\, and Nursing Homes\nWhere: Bella Milano – 455 Regency Park O’Fallon\, IL 62269\nMonday\, April 27\, 2026 – 11:30AM-1:00PM CST\nWith over 20 years of experience in senior care\, Annie Eads has dedicated her career to enhancing the quality of life for seniors. Currently serving as the Community Liaison at A Place at Home\, Annie brings a wealth of expertise\, having worked in both home care and senior living environments. Her passion for helping seniors during their golden years drives her commitment to ensuring they live healthier\, happier lives. \nA natural networker\, Annie thrives on building strong connections\, and her outreach efforts have earned her a reputation as a trusted professional in the field. She has been an active member of the Edwardsville Walk to End Alzheimer’s Committee for the past 10 years and serves as a Chamber Ambassador. Additionally\, Annie contributes to Madison County TRIAD\, an organization dedicated to keeping seniors safe in the community\, along with numerous other local organizations. \nAnnie is a true advocate for senior care\, continually working to improve resources and support systems for aging individuals\, ensuring they receive the care and respect they deserve. \nPreparing for the Golden Years: Understanding the Differences Between Home Care\, Senior Living\, and Nursing Homes \nAs we age\, planning ahead for our future care needs is essential. In this informative session\, Annie Eads\, Community Liaison at A Place at Home\, will break down the differences between home care\, senior living\, and nursing homes — helping you navigate the often confusing landscape of senior care options. \nDrawing from over 20 years of experience in senior care\, Annie will explore the unique benefits and challenges of each care setting\, providing real-life insights into when and why one might be the right choice over another. You’ll also gain practical tips on how to prepare for your golden years\, covering key considerations such as health\, finances\, and long-term care planning. \nWhether you’re planning for your own future or assisting a loved one\, this session will provide valuable tools to make informed decisions about aging. Learn what steps you can take today to ensure tomorrow is filled with comfort\, independence\, and peace of mind. \nPresentation takeaways: \n-How these services are paid for. \n-What you should ask. \n-Insurance coverage. \n-Understanding what’s ahead.[/vc_column_text][vc_empty_space height=”20px”][vc_column_text css=”” css_params=””]Contact this Speaker Directly:\nAnnie Eads – Brightly Senior Living \nEmail: annie_eads@yahoo.com \nFacebook: http://facebook.com/annie.wilsoneads \nPhone Number: 618-540-5542[/vc_column_text][/vc_column][/vc_row][vc_row][vc_column][vc_column_text css=”” css_params=””] \nWEW events are all about connection and community\, and we love sharing those moments. By attending a Women Empowering Women (WEW) meeting or event\, you give permission for WEW and its organizers\, leaders\, and partners to capture and use photos\, videos\, or recordings that may include your image\, voice\, or likeness. These may be used – without compensation – for promotional\, educational\, or informational purposes across WEW print and digital channels. \n[/vc_column_text][vc_column_text] \nAll chapter meetings are FREE for anyone to attend.  YES!  You read that right. \n\n(We just ask that if a chapter meeting is at a restaurant location\, that you purchase a meal to support the location that is so graciously hosting our event. Don’t forget to tip your server a little extra as most restaurants are struggling with staffing issues and we want to make sure they know how much we appreciate them!) \nEnjoy a proven\, structured system that embraces the building of relationships which in turn will grow your business efficiencies\, sales\, exposure\, and business processes. \nCome meet and learn from panelists\, experts\, and local women in your WEW chapter.  You will also find allies who want to help with your success and are ready to share their resources and expertise to help you take that next step in your personal and professional life. \nFor information about this chapter\, please contact our corporate team at hello@wewnational.com.\n[/vc_column_text][/vc_column][/vc_row]
URL:https://wewnational.com/event/ofallon-chapter-meeting-4-27-2026/
LOCATION:Bella Milano O’Fallon\, 455 Regency Park\, O'Fallon\, IL\, 62269\, United States
CATEGORIES:Chapter Meeting
ATTACH;FMTTYPE=image/jpeg:https://wewnational.com/wp-content/uploads/2026/02/WEW-OFallon-Chapter-Meeting-April-2026-updated.jpg
END:VEVENT
BEGIN:VEVENT
DTSTART;TZID=America/Chicago:20260428T113000
DTEND;TZID=America/Chicago:20260428T130000
DTSTAMP:20260423T045739
CREATED:20260310T175806Z
LAST-MODIFIED:20260408T195455Z
UID:10000722-1777375800-1777381200@wewnational.com
SUMMARY:Chesterfield Chapter Meeting - Press Pause: How Satisfied Are You\, Really?
DESCRIPTION:[vc_row][vc_column][vc_column_text css=”” css_params=””] \nGUEST SPEAKER: Mary Pat Jacobs\nTOPIC: Press Pause: How Satisfied Are You\, Really?\nWHERE: Firefly Grill: 101 Chesterfield Towne Center\, Chesterfield\, MO 63005\nWHEN: Tuesday April 28\, 2026 – 11:30AM-1:00PM CST\n\n\nWhen was the last time you pressed pause on the chaos to check in on how satisfied you are in your life? I know\, it’s hard to do because we are overwhelmed by ALL THE THINGS and some of it is out of our control\, and also who has time to pause anyway??? \nBut when we let the chaos consume us — that chaos is STRONG\, am I right?! — life ends up happening to us. And gosh\, it would feel a whole lot better to be at the CAUSE of our lives. \nIn this session\, you will learn about (and get a chance to use!) a tool called the Wheel of Life. Using this tool builds your awareness of where things are going well in your life\, what’s giving you energy\, where you feel satisfied and fulfilled — and where things aren’t going as well\, where your energy is depleted. \nThis fresh awareness can help you determine how much time and energy you want to spend making life work for you. \n  \n\n\n[/vc_column_text][vc_empty_space height=”20px”][vc_column_text css=”” css_params=””] \nContact Chesterfield’s Speaker Directly:\nMary Pat Jacobs – Mary Pat Jacobs Coaching + Consulting\nmarypat@marypatjacobs.com \nmarypatjacobs.com \nhttps://www.linkedin.com/in/marypatjacobs/[/vc_column_text][/vc_column][/vc_row][vc_row][vc_column][vc_empty_space height=”20px”][vc_column_text css=”” css_params=””] \nWEW events are all about connection and community\, and we love sharing those moments. By attending a Women Empowering Women (WEW) meeting or event\, you give permission for WEW and its organizers\, leaders\, and partners to capture and use photos\, videos\, or recordings that may include your image\, voice\, or likeness. These may be used – without compensation – for promotional\, educational\, or informational purposes across WEW print and digital channels. \n[/vc_column_text][vc_column_text] \nAll chapter meetings are FREE for anyone to attend.  YES!  You read that right. \n\n(We just ask that if a chapter meeting is at a restaurant location\, that you purchase a meal to support the location that is so graciously hosting our event. Don’t forget to tip your server a little extra as most restaurants are struggling with staffing issues and we want to make sure they know how much we appreciate them!) \nEnjoy a proven\, structured system that embraces the building of relationships which in turn will grow your business efficiencies\, sales\, exposure\, and business processes. \nCome meet and learn from panelists\, experts\, and local women in your WEW chapter.  You will also find allies who want to help with your success and are ready to share their resources and expertise to help you take that next step in your personal and professional life. \nFor information about this chapter\, please contact our corporate team at hello@wewnational.com. \n\n[/vc_column_text][/vc_column][/vc_row]
URL:https://wewnational.com/event/chesterfield-chapter-meeting-4-28-2026/
LOCATION:Firefly Grill\, 101 Chesterfield Towne Center\, Chesterfield\, MO\, 63005\, United States
CATEGORIES:Chapter Meeting
ATTACH;FMTTYPE=image/jpeg:https://wewnational.com/wp-content/uploads/2026/03/WEW-Chesterfield-Chapter-Meeting-April-2026.jpg
END:VEVENT
END:VCALENDAR