BEGIN:VCALENDAR
VERSION:2.0
PRODID:-//Women Empowering Women - ECPv6.15.20//NONSGML v1.0//EN
CALSCALE:GREGORIAN
METHOD:PUBLISH
X-WR-CALNAME:Women Empowering Women
X-ORIGINAL-URL:https://wewnational.com
X-WR-CALDESC:Events for Women Empowering Women
REFRESH-INTERVAL;VALUE=DURATION:PT1H
X-Robots-Tag:noindex
X-PUBLISHED-TTL:PT1H
BEGIN:VTIMEZONE
TZID:America/Chicago
BEGIN:DAYLIGHT
TZOFFSETFROM:-0600
TZOFFSETTO:-0500
TZNAME:CDT
DTSTART:20230312T080000
END:DAYLIGHT
BEGIN:STANDARD
TZOFFSETFROM:-0500
TZOFFSETTO:-0600
TZNAME:CST
DTSTART:20231105T070000
END:STANDARD
BEGIN:DAYLIGHT
TZOFFSETFROM:-0600
TZOFFSETTO:-0500
TZNAME:CDT
DTSTART:20240310T080000
END:DAYLIGHT
BEGIN:STANDARD
TZOFFSETFROM:-0500
TZOFFSETTO:-0600
TZNAME:CST
DTSTART:20241103T070000
END:STANDARD
BEGIN:DAYLIGHT
TZOFFSETFROM:-0600
TZOFFSETTO:-0500
TZNAME:CDT
DTSTART:20250309T080000
END:DAYLIGHT
BEGIN:STANDARD
TZOFFSETFROM:-0500
TZOFFSETTO:-0600
TZNAME:CST
DTSTART:20251102T070000
END:STANDARD
END:VTIMEZONE
BEGIN:VEVENT
DTSTART;TZID=America/Chicago:20241107T113000
DTEND;TZID=America/Chicago:20241107T130000
DTSTAMP:20260421T072355
CREATED:20240718T143706Z
LAST-MODIFIED:20240926T173449Z
UID:14505-1730979000-1730984400@wewnational.com
SUMMARY:Belleville Chapter Meeting - The Ease of Better Nutrition
DESCRIPTION:[vc_row][vc_column][vc_column_text css=””] \nGUEST SPEAKER: Nancy Ortinau\nTOPIC: The Ease of Better Nutrition\nWHEN: Thursday\, November 7\, 2024 from 11:30 a.m. to 1:00 p.m. CST\nWHERE: Tavern On Main – 301 E Main St\, Belleville\, IL 62220\nThrough my personal journey\, I will help others realize the importance of better nutrition. The ease of growing your own food and the quality of flavor. \nPresentation takeaways: \nThe importance of taking care of yourself. \nThe importance of longevity and feeling better physically. \nI am an internation best selling co author. I have my Diamond and Gemstone certification. But my true passion came later in life when I became involved in growing a garden. I am a Tower Garden Expert. I teach the ease and importance of growing your own vegetables year round. The value of putting better nutrition into our bodies. I love the joy I see in others when they achieve their success in growing their own food. I am currently working on opening an indoor tower farm. \n[/vc_column_text][vc_empty_space height=”15px”][vc_column_text css=””]Contact this Speaker Directly:\nNancy Ortinau: Owner of Inspiration by Nancy/Nancy’s Urban Tower Farm \nEmail: Nancy@nancyocares.com \nWebsite: http://nancyocares.com \nLinkedIn: http://www.linkedin.com/in/%20nancy-ortinau-92a34214 \nFacebook: https://www.facebook.com/profile.php?id=100049982295290 \nInstagram: https://www.instagram.com/nancys_urban_tower_farm?igsh=c3F1NGI4cnBzaWVw&utm_source=qr \nPhone Number: 314-742-1217[/vc_column_text][/vc_column][/vc_row][vc_row][vc_column][vc_column_text] \nAll chapter meetings are FREE for anyone to attend.  YES!  You read that right. \n\n(We just ask that if a chapter meeting is at a restaurant location\, that you purchase a meal to support the location that is so graciously hosting our event. Don’t forget to tip your server a little extra as most restaurants are struggling with staffing issues and we want to make sure they know how much we appreciate them!) \nEnjoy a proven\, structured system that embraces the building of relationships which in turn will grow your business efficiencies\, sales\, exposure\, and business processes. \nCome meet and learn from panelists\, experts\, and local women in your WEW chapter.  You will also find allies who want to help with your success and are ready to share their resources and expertise to help you take that next step in your personal and professional life. \nFor information about this chapter\, please contact our corporate team at hello@wewnational.com.\n[/vc_column_text][/vc_column][/vc_row]
URL:https://wewnational.com/event/belleville-chapter-meeting-11-7-2024/
LOCATION:Tavern on Main\, 301 E Main St\, Belleville\, IL\, 62220\, United States
CATEGORIES:Chapter Meeting
ATTACH;FMTTYPE=image/jpeg:https://wewnational.com/wp-content/uploads/2024/07/WEW-Belleville-Chapter-Meeting-November-2024.jpg
END:VEVENT
END:VCALENDAR