BEGIN:VCALENDAR
VERSION:2.0
PRODID:-//Women Empowering Women - ECPv6.15.20//NONSGML v1.0//EN
CALSCALE:GREGORIAN
METHOD:PUBLISH
X-WR-CALNAME:Women Empowering Women
X-ORIGINAL-URL:https://wewnational.com
X-WR-CALDESC:Events for Women Empowering Women
REFRESH-INTERVAL;VALUE=DURATION:PT1H
X-Robots-Tag:noindex
X-PUBLISHED-TTL:PT1H
BEGIN:VTIMEZONE
TZID:America/Chicago
BEGIN:DAYLIGHT
TZOFFSETFROM:-0600
TZOFFSETTO:-0500
TZNAME:CDT
DTSTART:20200308T080000
END:DAYLIGHT
BEGIN:STANDARD
TZOFFSETFROM:-0500
TZOFFSETTO:-0600
TZNAME:CST
DTSTART:20201101T070000
END:STANDARD
BEGIN:DAYLIGHT
TZOFFSETFROM:-0600
TZOFFSETTO:-0500
TZNAME:CDT
DTSTART:20210314T080000
END:DAYLIGHT
BEGIN:STANDARD
TZOFFSETFROM:-0500
TZOFFSETTO:-0600
TZNAME:CST
DTSTART:20211107T070000
END:STANDARD
BEGIN:DAYLIGHT
TZOFFSETFROM:-0600
TZOFFSETTO:-0500
TZNAME:CDT
DTSTART:20220313T080000
END:DAYLIGHT
BEGIN:STANDARD
TZOFFSETFROM:-0500
TZOFFSETTO:-0600
TZNAME:CST
DTSTART:20221106T070000
END:STANDARD
END:VTIMEZONE
BEGIN:VEVENT
DTSTART;TZID=America/Chicago:20210506T120000
DTEND;TZID=America/Chicago:20210506T130000
DTSTAMP:20260423T061224
CREATED:20210409T150618Z
LAST-MODIFIED:20210430T232714Z
UID:3652-1620302400-1620306000@wewnational.com
SUMMARY:Belleville Chapter Meeting
DESCRIPTION:[vc_row][vc_column][vc_column_text] \nGUEST SPEAKER: Brooke Mitchell\nTOPIC: Work-Life Balance\nTHURS\, May 06\, 2021 – 12:00PM-1:00PM CST\nWife\, mom\, realtor\, Brooke\, is no rookie when it comes to organized chaos. She’s dependable and outgoing\, which makes her the perfect fit for this role. She has demonstrated years of success in marketing\, social media\, and design. Prior to making her real estate debut\, Brooke\, attended Southern Illinois University Edwardsville\, where she obtained her Bachelors in Communication. At SIUE she played golf all four years\, was a member of the OVC committee\, the Student Athletic Advisory committee\, and a volunteer for the Special Olympics. \nBrooke would love to offer her opinion and services when it comes to buying or selling your home. She will make a lasting impression in your home buying process and will help make your house a “home”. \nFor information about this chapter\, please contact our corporate team at hello@wewnational.com.[/vc_column_text][vc_empty_space height=”20px”][vc_column_text] \nContact this Speaker Directly:\nBrooke Mitchell\, Team Lead and Broker with Century 21 Advantage\nPhone: 618-977-9873\nEmail: brookemitchellc21@gmail.com[/vc_column_text][/vc_column][/vc_row]
URL:https://wewnational.com/event/belleville-chapter-meeting/
CATEGORIES:Chapter Meeting
ATTACH;FMTTYPE=image/png:https://wewnational.com/wp-content/uploads/2021/04/WEW-Belleville-Chapter-Meeting-Brooke-Mitchell-2021.png
LOCATION:https://wewnational.com/event/belleville-chapter-meeting/
END:VEVENT
END:VCALENDAR