BEGIN:VCALENDAR
VERSION:2.0
PRODID:-//Women Empowering Women - ECPv6.15.20//NONSGML v1.0//EN
CALSCALE:GREGORIAN
METHOD:PUBLISH
X-WR-CALNAME:Women Empowering Women
X-ORIGINAL-URL:https://wewnational.com
X-WR-CALDESC:Events for Women Empowering Women
REFRESH-INTERVAL;VALUE=DURATION:PT1H
X-Robots-Tag:noindex
X-PUBLISHED-TTL:PT1H
BEGIN:VTIMEZONE
TZID:America/Chicago
BEGIN:DAYLIGHT
TZOFFSETFROM:-0600
TZOFFSETTO:-0500
TZNAME:CDT
DTSTART:20220313T080000
END:DAYLIGHT
BEGIN:STANDARD
TZOFFSETFROM:-0500
TZOFFSETTO:-0600
TZNAME:CST
DTSTART:20221106T070000
END:STANDARD
BEGIN:DAYLIGHT
TZOFFSETFROM:-0600
TZOFFSETTO:-0500
TZNAME:CDT
DTSTART:20230312T080000
END:DAYLIGHT
BEGIN:STANDARD
TZOFFSETFROM:-0500
TZOFFSETTO:-0600
TZNAME:CST
DTSTART:20231105T070000
END:STANDARD
BEGIN:DAYLIGHT
TZOFFSETFROM:-0600
TZOFFSETTO:-0500
TZNAME:CDT
DTSTART:20240310T080000
END:DAYLIGHT
BEGIN:STANDARD
TZOFFSETFROM:-0500
TZOFFSETTO:-0600
TZNAME:CST
DTSTART:20241103T070000
END:STANDARD
END:VTIMEZONE
BEGIN:VEVENT
DTSTART;TZID=America/Chicago:20230622T110000
DTEND;TZID=America/Chicago:20230622T123000
DTSTAMP:20260423T113911
CREATED:20230525T192126Z
LAST-MODIFIED:20230619T154337Z
UID:9534-1687431600-1687437000@wewnational.com
SUMMARY:Houston Chapter Meeting - How to Travel Hack Your Next Summer Vacation
DESCRIPTION:[vc_row][vc_column][vc_column_text] \nSPEAKER: Catherine Oliva\nTOPIC: How to Travel Hack Your Next Summer Vacation\nWHERE: West Houston Institute – 2811 Hayes Road\, Houston\, TX 77082\nThursday\, June 22\, 2023 – 11:00AM-12:30PM CST\n  \nStay tuned for more information as it becomes available. \n  \nFor information about this chapter\, please contact our corporate team at hello@wewnational.com.[/vc_column_text][vc_empty_space height=”20px”][/vc_column][/vc_row][vc_row][vc_column][vc_column_text] \nAll chapter meetings are FREE for anyone to attend.  YES!  You read that right. \n\n(We just ask that if a chapter meeting is at a restaurant location\, that you purchase a meal to support the location that is so graciously hosting our event. Don’t forget to tip your server a little extra as most restaurants are struggling with staffing issues and we want to make sure they know how much we appreciate them!) \nEnjoy a proven\, structured system that embraces the building of relationships which in turn will grow your business efficiencies\, sales\, exposure\, and business processes. \nCome meet and learn from panelists\, experts\, and local women in your WEW chapter.  You will also find allies who want to help with your success and are ready to share their resources and expertise to help you take that next step in your personal and professional life. \nFor information about this chapter\, please contact our corporate team at hello@wewnational.com. \n\n[/vc_column_text][/vc_column][/vc_row]
URL:https://wewnational.com/event/houston-chapter-meeting-tba/
LOCATION:West Houston Institute\, 2811 Hayes Road\, Houston\, 77082
CATEGORIES:Chapter Meeting
ATTACH;FMTTYPE=image/png:https://wewnational.com/wp-content/uploads/2023/05/Houston-TX-Chapter-Meeting-June-22-2023.png
END:VEVENT
END:VCALENDAR