BEGIN:VCALENDAR
VERSION:2.0
PRODID:-//Women Empowering Women - ECPv6.15.20//NONSGML v1.0//EN
CALSCALE:GREGORIAN
METHOD:PUBLISH
X-WR-CALNAME:Women Empowering Women
X-ORIGINAL-URL:https://wewnational.com
X-WR-CALDESC:Events for Women Empowering Women
REFRESH-INTERVAL;VALUE=DURATION:PT1H
X-Robots-Tag:noindex
X-PUBLISHED-TTL:PT1H
BEGIN:VTIMEZONE
TZID:America/Chicago
BEGIN:DAYLIGHT
TZOFFSETFROM:-0600
TZOFFSETTO:-0500
TZNAME:CDT
DTSTART:20230312T080000
END:DAYLIGHT
BEGIN:STANDARD
TZOFFSETFROM:-0500
TZOFFSETTO:-0600
TZNAME:CST
DTSTART:20231105T070000
END:STANDARD
BEGIN:DAYLIGHT
TZOFFSETFROM:-0600
TZOFFSETTO:-0500
TZNAME:CDT
DTSTART:20240310T080000
END:DAYLIGHT
BEGIN:STANDARD
TZOFFSETFROM:-0500
TZOFFSETTO:-0600
TZNAME:CST
DTSTART:20241103T070000
END:STANDARD
BEGIN:DAYLIGHT
TZOFFSETFROM:-0600
TZOFFSETTO:-0500
TZNAME:CDT
DTSTART:20250309T080000
END:DAYLIGHT
BEGIN:STANDARD
TZOFFSETFROM:-0500
TZOFFSETTO:-0600
TZNAME:CST
DTSTART:20251102T070000
END:STANDARD
END:VTIMEZONE
BEGIN:VEVENT
DTSTART;TZID=America/Chicago:20240906T140000
DTEND;TZID=America/Chicago:20240906T180000
DTSTAMP:20260421T043837
CREATED:20240718T194553Z
LAST-MODIFIED:20240827T193542Z
UID:14545-1725631200-1725645600@wewnational.com
SUMMARY:TEDxStLouis Women Amplify
DESCRIPTION:[vc_row][vc_column][vc_separator color=”custom” accent_color=”#fcb8a9″][vc_column_text css=””] \nJOIN US FOR: TEDxStLouis Women Amplify\nWHERE: Touhill Performing Arts Center: 1 Touhill Cir\, St. Louis MO 63121\nWHEN: Friday September 6\, 2024 2:00PM-6:00PM CST\nOur Founder\, Michell Stockmann is a Co-Director of the Ambassador Program\, if you wish to attend and sit with the WEW group please send $35 via Venmo to @Michell-Stockmann \nJoin us for an empowering journey into the world of ideas and innovation at AMPLIFY\, a TEDxStLouis Women’s event dedicated to celebrating the voices and accomplishments of women from all walks of life. \nIn a world where the power of women’s voices is increasingly recognized and valued\, AMPLIFY serves as a platform to elevate these voices even further\, inspiring action\, sparking dialogue\, and fostering connections that transcend boundaries. \nAt AMPLIFY\, we believe in the power of storytelling to create change. Through a captivating lineup of speakers\, performers\, and interactive experiences\, we will explore how women amplify their voices and make a profound impact in fields ranging from technology and science to arts and activism. Our speakers will share their personal journeys\, insights\, and groundbreaking ideas\, challenging the status quo and redefining what it means to be a woman in today’s society. \nFrom trailblazing entrepreneurs and visionary leaders to artists and activists driving social change\, AMPLIFY will showcase diverse perspectives and highlight the remarkable achievements of women who are breaking barriers\, shattering stereotypes\, and paving the way for future generations. Whether you’re a seasoned changemaker or simply curious about the power of women’s voices\, AMPLIFY offers something for everyone\, providing a platform for dialogue\, inspiration\, and action. \nTogether\, as a community\, we can ignite change\, challenge perceptions\, and build a future where every voice is heard and every woman is empowered to reach her full potential. \nAMPLIFY YOUR VOICE. AMPLIFY YOUR IMPACT. AMPLIFY THE FUTURE.[/vc_column_text][vc_empty_space height=”20px”][/vc_column][/vc_row]
URL:https://wewnational.com/event/tedxstlouis-women-amplify/
LOCATION:Touhill Performing Arts Center\, 1 Touhill Cir\, St. Louis\, 63121\, United States
CATEGORIES:Connect & Collaborate Events
ATTACH;FMTTYPE=image/png:https://wewnational.com/wp-content/uploads/2024/07/TEDX-Amplify-collaborative-event.png
END:VEVENT
END:VCALENDAR