BEGIN:VCALENDAR
VERSION:2.0
PRODID:-//Women Empowering Women - ECPv6.15.20//NONSGML v1.0//EN
CALSCALE:GREGORIAN
METHOD:PUBLISH
X-WR-CALNAME:Women Empowering Women
X-ORIGINAL-URL:https://wewnational.com
X-WR-CALDESC:Events for Women Empowering Women
REFRESH-INTERVAL;VALUE=DURATION:PT1H
X-Robots-Tag:noindex
X-PUBLISHED-TTL:PT1H
BEGIN:VTIMEZONE
TZID:America/Chicago
BEGIN:DAYLIGHT
TZOFFSETFROM:-0600
TZOFFSETTO:-0500
TZNAME:CDT
DTSTART:20250309T080000
END:DAYLIGHT
BEGIN:STANDARD
TZOFFSETFROM:-0500
TZOFFSETTO:-0600
TZNAME:CST
DTSTART:20251102T070000
END:STANDARD
BEGIN:DAYLIGHT
TZOFFSETFROM:-0600
TZOFFSETTO:-0500
TZNAME:CDT
DTSTART:20260308T080000
END:DAYLIGHT
BEGIN:STANDARD
TZOFFSETFROM:-0500
TZOFFSETTO:-0600
TZNAME:CST
DTSTART:20261101T070000
END:STANDARD
BEGIN:DAYLIGHT
TZOFFSETFROM:-0600
TZOFFSETTO:-0500
TZNAME:CDT
DTSTART:20270314T080000
END:DAYLIGHT
BEGIN:STANDARD
TZOFFSETFROM:-0500
TZOFFSETTO:-0600
TZNAME:CST
DTSTART:20271107T070000
END:STANDARD
END:VTIMEZONE
BEGIN:VEVENT
DTSTART;TZID=America/Chicago:20260610T120000
DTEND;TZID=America/Chicago:20260610T130000
DTSTAMP:20260423T200029
CREATED:20260423T183937Z
LAST-MODIFIED:20260423T183937Z
UID:23418-1781092800-1781096400@wewnational.com
SUMMARY:Virtual Chapter Meeting - KultureCity: Women Who Want Sensory Accessibility For All
DESCRIPTION:[vc_row][vc_column][vc_column_text css=”” css_params=””] \nGUEST SPEAKER: Meg Raby Klinghoffer\nTOPIC: KultureCity: Women Who Want Sensory Accessibility For All\n\nWHEN: Wednesday\, June 10\, 2026 – 12:00PM-1:00PM CST\nHosted By: Michell Stockmann\n\nKultureCity is the world’s leading nonprofit in sensory accessibility. With over 7000 venues trained and certified globally\, it is a movement that invites all of us to the table. To be seen. To be understood. To be accommodated for. To be ourselves. As an autistic female with a special interest in humans and a background in speech and language pathology\, a children’s author and a writer for the parenting platform Scary Mommy\, Meg Raby Klinghoffer will share from her personal experience the importance of sensory accessibility made available at all places and spaces: From coffee shops\, to airports\, to police agencies\, to churches and schools\, cruise lines\, Coldplay and more. Learn about who KultureCity is\, what we’re doing\, free resources available and what you can do to further the impact in your community. \n\n[/vc_column_text][vc_empty_space height=”20px”][vc_column_text css=”” css_params=””] \nContact this Speaker Directly:\nMeg Raby Klinghoffer – KultureCity – Chief Koji Officer\, Partners Success Manager\, Sensory Trainer\n\nInstagram:@author.meg.raby \nInstagram: @kulturecity \nEmail: meg@kulturecity.org \nWebsite: www.kulturecity.org[/vc_column_text][/vc_column][/vc_row][vc_row][vc_column][vc_empty_space height=”20px”][vc_column_text css=”” css_params=””] \nWEW events are all about connection and community\, and we love sharing those moments. By attending a Women Empowering Women (WEW) meeting or event\, you give permission for WEW and its organizers\, leaders\, and partners to capture and use photos\, videos\, or recordings that may include your image\, voice\, or likeness. These may be used – without compensation – for promotional\, educational\, or informational purposes across WEW print and digital channels. \n[/vc_column_text][/vc_column][/vc_row]
URL:https://wewnational.com/event/virtual-chapter-meeting-6-10-2026/
CATEGORIES:Chapter Meeting,Virtual Event
ATTACH;FMTTYPE=image/jpeg:https://wewnational.com/wp-content/uploads/2026/04/Virtual-WEW-Meeting-June-2026.jpg
LOCATION:https://wewnational.com/event/virtual-chapter-meeting-6-10-2026/
END:VEVENT
END:VCALENDAR