BEGIN:VCALENDAR
VERSION:2.0
PRODID:-//Women Empowering Women - ECPv6.15.20//NONSGML v1.0//EN
CALSCALE:GREGORIAN
METHOD:PUBLISH
X-WR-CALNAME:Women Empowering Women
X-ORIGINAL-URL:https://wewnational.com
X-WR-CALDESC:Events for Women Empowering Women
REFRESH-INTERVAL;VALUE=DURATION:PT1H
X-Robots-Tag:noindex
X-PUBLISHED-TTL:PT1H
BEGIN:VTIMEZONE
TZID:America/Chicago
BEGIN:DAYLIGHT
TZOFFSETFROM:-0600
TZOFFSETTO:-0500
TZNAME:CDT
DTSTART:20220313T080000
END:DAYLIGHT
BEGIN:STANDARD
TZOFFSETFROM:-0500
TZOFFSETTO:-0600
TZNAME:CST
DTSTART:20221106T070000
END:STANDARD
BEGIN:DAYLIGHT
TZOFFSETFROM:-0600
TZOFFSETTO:-0500
TZNAME:CDT
DTSTART:20230312T080000
END:DAYLIGHT
BEGIN:STANDARD
TZOFFSETFROM:-0500
TZOFFSETTO:-0600
TZNAME:CST
DTSTART:20231105T070000
END:STANDARD
BEGIN:DAYLIGHT
TZOFFSETFROM:-0600
TZOFFSETTO:-0500
TZNAME:CDT
DTSTART:20240310T080000
END:DAYLIGHT
BEGIN:STANDARD
TZOFFSETFROM:-0500
TZOFFSETTO:-0600
TZNAME:CST
DTSTART:20241103T070000
END:STANDARD
END:VTIMEZONE
BEGIN:VEVENT
DTSTART;TZID=America/Chicago:20230615T113000
DTEND;TZID=America/Chicago:20230615T130000
DTSTAMP:20260423T130544
CREATED:20230315T123759Z
LAST-MODIFIED:20230425T124639Z
UID:8929-1686828600-1686834000@wewnational.com
SUMMARY:West County Chapter Meeting - How Content Marketing can Help You Grow Your Business
DESCRIPTION:[vc_row][vc_column][vc_column_text] \nGUEST SPEAKER: Marianne Biangardi\nTOPIC: How Content Marketing can Help You Grow Your Business \nWHERE: ll Bel Lago – 11631 Olive Blvd. St. Louis\, MO 63141\nWHEN: Thursday\, June 15\, 2023 – 11:30AM-1:00PM CST\nMarianne Biangardi is a Business Development and Client Service Leader for Schmersahl Treloar. She studied Fine Arts and Graphic Design abroad at SACI international\, and graduating from Fontbonne University with a BFA\, Marianne began her career working in the accounting industry. A few years in\, she made more of a leap from administration into marketing and practice development area of the firm. Her main roles are in lead generation\, client relations as well as recruiting and talent acquisition for the firm. Her clients and connections are predominantly in the Manufacturing\, Distribution and Construction industries. She has a gift and passion for connecting people and was recently nominated as one of the “Top 100 People to Know to Succeed in Business” – From the St. Louis SBM. Marianne is also a member of St. Louis Makes Manufacturing\, The American Subcontractors Midwest\, and SITE Improvement Organization\, Maryland Heights Chamber of Commerce\, where she serves on multiple committees. Marianne has a passion for helping others and goes out of her way to do so when she can. Her talents include building strategic partnerships and maintaining client relationships \n  \nEveryone is talking about content lately. What is great content? How can you use content to get more qualified leads? Why is content marketing important? How do you start creating better content that will engage your audience and help you build trust\, develop relationships\, improve conversations and generate leads? Join us to learn more about how to create high quality consistent content and how it can help grow your business! \nHere are some takeways you will learn –\n1.) How to drive engagement through your posts\, and to your website\n2.) Easy and effective content creation ideas\n3.) Ways you can personalize and humanize your brand\n4.) What you can do  to stand out from competitors[/vc_column_text][vc_empty_space height=”20px”][/vc_column][/vc_row][vc_row][vc_column][vc_column_text] \nContact this Speaker Directly:\nMarianne Biangardi\, Marketing Director with Schmersahl Treloar\nWebsite: http://www.stcpa.com \nEmail: mbiangardi@stcpa.com \nLinkedIn: https://www.linkedin.com/in/maribiangardi/ \nFacebook: https://www.facebook.com/marianne.biangardi \nPhone Number: 314-322-4871[/vc_column_text][/vc_column][/vc_row][vc_row][vc_column][vc_column_text] \nAll chapter meetings are FREE for anyone to attend.  YES!  You read that right. \n\n(We just ask that if a chapter meeting is at a restaurant location\, that you purchase a meal to support the location that is so graciously hosting our event. Don’t forget to tip your server a little extra as most restaurants are struggling with staffing issues and we want to make sure they know how much we appreciate them!) \nEnjoy a proven\, structured system that embraces the building of relationships which in turn will grow your business efficiencies\, sales\, exposure\, and business processes. \nCome meet and learn from panelists\, experts\, and local women in your WEW chapter.  You will also find allies who want to help with your success and are ready to share their resources and expertise to help you take that next step in your personal and professional life. \nFor information about this chapter\, please contact our corporate team at hello@wewnational.com. \n\n[/vc_column_text][/vc_column][/vc_row]
URL:https://wewnational.com/event/west-county-chapter-meeting-how-content-marketing-can-help-you-grow-your-business/
LOCATION:Il Bel Lago\, 11631 Olive Blvd.\, St. Louis\, MO\, 63141
CATEGORIES:Chapter Meeting,West County St. Louis
ATTACH;FMTTYPE=image/jpeg:https://wewnational.com/wp-content/uploads/2023/03/Copy-of-WEW-West-County-Chapter-Meeting-April-2023.jpg
END:VEVENT
END:VCALENDAR